BEGIN:VCALENDAR
PRODID:-//eluceo/ical//2.0/EN
VERSION:2.0
CALSCALE:GREGORIAN
BEGIN:VEVENT
UID:0f35bec8de19c16b0c22b0f5a775883a
DTSTAMP:20260420T173845Z
SUMMARY:Mit der Frelsbachtalbahn unterwegs im Rochlitzer Land
DESCRIPTION:Die 9\,4 km lange Eisenbahnstrecke  schlängelt sich vom Mulden
 tal in Rochlitz durch eine wunderschöne Naturlandschaft\, entlang des Fre
 lsbaches durch das Köttwitzschtal bis nach Narsdorf. Nach Absprache könn
 en individuelle Sonderfahrten durchgeführt werden.
URL:https://www.meinplaner.com
DTSTART;TZID=Europe/Amsterdam:20260501T100000
DTEND;TZID=Europe/Amsterdam:20260501T170000
LOCATION:Alter Lokschuppen\, Leipziger Straße 53\, 09306 Rochlitz
BEGIN:VALARM
ACTION:DISPLAY
DESCRIPTION:Erinnerung: Mit der Frelsbachtalbahn unterwegs im Rochlitzer La
 nd beginnt in 1 Stunde
TRIGGER;RELATED=END:-PT1H
END:VALARM
END:VEVENT
END:VCALENDAR
