BEGIN:VCALENDAR
PRODID:-//eluceo/ical//2.0/EN
VERSION:2.0
CALSCALE:GREGORIAN
BEGIN:VEVENT
UID:7fde2e66b50a8251d4f59e955b6fb037
DTSTAMP:20260422T140918Z
SUMMARY:Die Lücke im Album
DESCRIPTION:Lesung mit Christine Bücher und Einführung in die Recherche e
 igener Familiengeschichte. Ausgehend von ihrem Buch „Die Lücke im Album
 “ berichtet sie über ihre Spurensuche und gibt praktische Hinweise\, wi
 e sich Familiengeschichten zur NS-Zeit erforschen lassen.
URL:https://www.meinplaner.com
DTSTART;TZID=Europe/Amsterdam:20260529T170000
DTEND;TZID=Europe/Amsterdam:20260529T190000
LOCATION:Bahnhofstr. 56\, 04720 Mochau
BEGIN:VALARM
ACTION:DISPLAY
DESCRIPTION:Erinnerung: Die Lücke im Album beginnt in 1 Stunde
TRIGGER;RELATED=END:-PT1H
END:VALARM
END:VEVENT
END:VCALENDAR
