BEGIN:VCALENDAR
PRODID:-//eluceo/ical//2.0/EN
VERSION:2.0
CALSCALE:GREGORIAN
BEGIN:VEVENT
UID:9e96c2aa3aa39b3c7f6cf34e2b4fa3c8
DTSTAMP:20260423T220414Z
SUMMARY:Von Rittern\, Fürstinnen und Schlossgespenstern - eine familienfre
 undliche Führung
DESCRIPTION:Während einer 90-minütigen Erkundungstour durch 1000 Jahre Sc
 hlossgeschichte lauschen Besucher den lustigen\, interessanten und spannen
 den Fakten über das Schloss und deren Bewohner. So wie über die Prinzen\
 , die Graffiti anbrachten\, die man noch bestaunen kann.
URL:https://www.meinplaner.com
DTSTART;TZID=Europe/Amsterdam:20260514T140000
DTEND;TZID=Europe/Amsterdam:20260514T153000
LOCATION:Sörnziger Weg 1\, 09306 Rochlitz
BEGIN:VALARM
ACTION:DISPLAY
DESCRIPTION:Erinnerung: Von Rittern\, Fürstinnen und Schlossgespenstern - 
 eine familienfreundliche Führung beginnt in 1 Stunde
TRIGGER;RELATED=END:-PT1H
END:VALARM
END:VEVENT
END:VCALENDAR
