BEGIN:VCALENDAR
PRODID:-//eluceo/ical//2.0/EN
VERSION:2.0
CALSCALE:GREGORIAN
BEGIN:VEVENT
UID:b3dd42a0f90fbd1a02e465c5c81e3e5a
DTSTAMP:20260420T145800Z
SUMMARY:Paris Murder Mystery
DESCRIPTION:Die Psychotherapeutin Lilian Steiner\, gespielt von Jodie Foste
 r\, wird nach dem mysteriösen Tod ihrer Patientin Paula\, den die Polizei
  als Suizid abtut\, zur Ermittlerin und stellt fest\, dass die Wahrheit we
 it komplexer ist als angenommen.
URL:https://www.meinplaner.com
DTSTART;TZID=Europe/Amsterdam:20260420T202000
DTEND;TZID=Europe/Amsterdam:20260420T222000
LOCATION:Poetenweg 6-8\, 08056 Zwickau
BEGIN:VALARM
ACTION:DISPLAY
DESCRIPTION:Erinnerung: Paris Murder Mystery beginnt in 1 Stunde
TRIGGER;RELATED=END:-PT1H
END:VALARM
END:VEVENT
END:VCALENDAR
