BEGIN:VCALENDAR
PRODID:-//eluceo/ical//2.0/EN
VERSION:2.0
CALSCALE:GREGORIAN
BEGIN:VEVENT
UID:1d44e91f6b144cc6319d5c605c509d74
DTSTAMP:20260422T054931Z
SUMMARY:Hofkonzert
DESCRIPTION:Beim Hofkonzert „Eine Klangreise zur inneren Reflexion“ lä
 dt der Komponist und Solist Friedbert Wissmann zu einem intensiven Musiker
 lebnis ein. Klang\, Stille und Konzentration verbinden sich zu einem Abend
  der inneren Einkehr. 
URL:https://www.meinplaner.com
DTSTART;TZID=Europe/Amsterdam:20260613T153000
DTEND;TZID=Europe/Amsterdam:20260613T173000
LOCATION:Schloßstr. 1\, 09328 Lunzenau
BEGIN:VALARM
ACTION:DISPLAY
DESCRIPTION:Erinnerung: Hofkonzert beginnt in 1 Stunde
TRIGGER;RELATED=END:-PT1H
END:VALARM
END:VEVENT
END:VCALENDAR
