BEGIN:VCALENDAR
PRODID:-//eluceo/ical//2.0/EN
VERSION:2.0
CALSCALE:GREGORIAN
BEGIN:VEVENT
UID:fb147cd5a7f5f46a15c09b8dc3cf75cf
DTSTAMP:20260424T154252Z
SUMMARY:Admedia Freiberg - Rehazentrum
DESCRIPTION:Auf 2.200 m² vereint das Zentrum großzügige Trainings- und T
 herapieflächen\, moderne Bewegungsbäder\, ein lichtdurchflutetes Bistro 
 und Ruhezonen. Ergänzt wird das Angebot durch vielfältige Gesundheits- u
 nd Präventionskurse für eine ganzheitliche Rehabilitation.
URL:https://www.meinplaner.com
DTSTART;TZID=Europe/Amsterdam:20260427T080000
DTEND;TZID=Europe/Amsterdam:20260427T193000
LOCATION:Dörnerzaunstr. 5\, 09599 Freiberg
BEGIN:VALARM
ACTION:DISPLAY
DESCRIPTION:Erinnerung: Admedia Freiberg - Rehazentrum beginnt in 1 Stunde
TRIGGER;RELATED=END:-PT1H
END:VALARM
END:VEVENT
END:VCALENDAR
