BEGIN:VCALENDAR
PRODID:-//eluceo/ical//2.0/EN
VERSION:2.0
CALSCALE:GREGORIAN
BEGIN:VEVENT
UID:f22079cb69073ebd81899cd100145c5b
DTSTAMP:20260421T014436Z
SUMMARY:Schauröstungen
DESCRIPTION:Das Erlebnis der Schauröstung entführt in die Welt des Kaffee
 s – der Duft frisch gerösteter Bohnen erfüllt den Raum. Mit maximal 15
  Personen kann der faszinierende Prozess hautnah erlebt werden\, direkt im
  Herzen des Cafés.
URL:https://www.meinplaner.com
DTSTART;TZID=Europe/Amsterdam:20260421T130000
DTEND;TZID=Europe/Amsterdam:20260421T133000
LOCATION:Chemnitzer Str. 10\, 09221 Neukirchen/Erzgeb.
BEGIN:VALARM
ACTION:DISPLAY
DESCRIPTION:Erinnerung: Schauröstungen beginnt in 1 Stunde
TRIGGER;RELATED=END:-PT1H
END:VALARM
END:VEVENT
BEGIN:VEVENT
UID:7dc2abf65b50b1224b2c128680f54cf7
DTSTAMP:20260421T014436Z
SUMMARY:Schauröstungen
DESCRIPTION:Das Erlebnis der Schauröstung entführt in die Welt des Kaffee
 s – der Duft frisch gerösteter Bohnen erfüllt den Raum. Mit maximal 15
  Personen kann der faszinierende Prozess hautnah erlebt werden\, direkt im
  Herzen des Cafés.
URL:https://www.meinplaner.com
DTSTART;TZID=Europe/Amsterdam:20260421T170000
DTEND;TZID=Europe/Amsterdam:20260421T173000
LOCATION:Chemnitzer Str. 10\, 09221 Neukirchen/Erzgeb.
BEGIN:VALARM
ACTION:DISPLAY
DESCRIPTION:Erinnerung: Schauröstungen beginnt in 1 Stunde
TRIGGER;RELATED=END:-PT1H
END:VALARM
END:VEVENT
END:VCALENDAR
