BEGIN:VCALENDAR
PRODID:-//eluceo/ical//2.0/EN
VERSION:2.0
CALSCALE:GREGORIAN
BEGIN:VEVENT
UID:512d09345eeddd831b96139ea3a30a1e
DTSTAMP:20260422T201235Z
SUMMARY:Zurück in die Vergangenheit
DESCRIPTION:Im Getreidespeicher des Bergmagazins Marienberg kann man die or
 iginale Bauweise mit mächtigen Holzbalken bestaunen\, regionale Handwerks
 kunst entdecken\, historische Geräte besichtigen und sich über die früh
 ere Lagerung und Verarbeitung von Getreide informieren.
URL:https://www.meinplaner.com
DTSTART;TZID=Europe/Amsterdam:20260423T100000
DTEND;TZID=Europe/Amsterdam:20260423T160000
LOCATION:Am Kaiserteich 3\, 09496 Marienberg
BEGIN:VALARM
ACTION:DISPLAY
DESCRIPTION:Erinnerung: Zurück in die Vergangenheit beginnt in 1 Stunde
TRIGGER;RELATED=END:-PT1H
END:VALARM
END:VEVENT
END:VCALENDAR
