BEGIN:VCALENDAR
PRODID:-//eluceo/ical//2.0/EN
VERSION:2.0
CALSCALE:GREGORIAN
BEGIN:VEVENT
UID:f2bf9c1b55e3fe33e260502e44118c5b
DTSTAMP:20260425T154739Z
SUMMARY:Historische Schlosserei und Maschinenbaufabrik Ernst Wittig
DESCRIPTION:Alte Schlosserei – Die historische Maschinenbaufabrik Ernst W
 ittig mit ihrer funktionstüchtigen Transmission wurde aus dem Unterdorf i
 n die Böttcherfabrik verlegt und dort originalgetreu wieder aufgebaut.
URL:https://www.meinplaner.com
DTSTART;TZID=Europe/Amsterdam:20260425T130000
DTEND;TZID=Europe/Amsterdam:20260425T170000
LOCATION:Ratsseite-Dorfstr. 112\, 09496 Marienberg
BEGIN:VALARM
ACTION:DISPLAY
DESCRIPTION:Erinnerung: Historische Schlosserei und Maschinenbaufabrik Erns
 t Wittig beginnt in 1 Stunde
TRIGGER;RELATED=END:-PT1H
END:VALARM
END:VEVENT
END:VCALENDAR
