BEGIN:VCALENDAR
PRODID:-//eluceo/ical//2.0/EN
VERSION:2.0
CALSCALE:GREGORIAN
BEGIN:VEVENT
UID:dc6bf6425375792b9b9d8d12544bbcb5
DTSTAMP:20260421T233256Z
SUMMARY:Genuss auf hohem Niveau mit eigenem Stil
DESCRIPTION:Schicke Modernität und eine anspruchsvolle Gemütlichkeit biet
 et das zentrumsnahe "Alexxanders" in einem denkmalgeschützten Haus. Inhab
 er und Koch Roland Keilholz und sein Team kreieren auf reizvolle Weise lei
 chte deutsche Küche mit internationalen Einflüssen.
URL:https://www.meinplaner.com
DTSTART;TZID=Europe/Amsterdam:20260422T070000
DTEND;TZID=Europe/Amsterdam:20260422T120000
LOCATION:Ludwig-Kirsch-Str. 9\, 09130 Chemnitz
BEGIN:VALARM
ACTION:DISPLAY
DESCRIPTION:Erinnerung: Genuss auf hohem Niveau mit eigenem Stil beginnt in
  1 Stunde
TRIGGER;RELATED=END:-PT1H
END:VALARM
END:VEVENT
BEGIN:VEVENT
UID:fcb8755f04669d31da7fe2ab2aeafb4a
DTSTAMP:20260421T233256Z
SUMMARY:Genuss auf hohem Niveau mit eigenem Stil
DESCRIPTION:Schicke Modernität und eine anspruchsvolle Gemütlichkeit biet
 et das zentrumsnahe "Alexxanders" in einem denkmalgeschützten Haus. Inhab
 er und Koch Roland Keilholz und sein Team kreieren auf reizvolle Weise lei
 chte deutsche Küche mit internationalen Einflüssen.
URL:https://www.meinplaner.com
DTSTART;TZID=Europe/Amsterdam:20260422T170000
DTEND;TZID=Europe/Amsterdam:20260422T220000
LOCATION:Ludwig-Kirsch-Str. 9\, 09130 Chemnitz
BEGIN:VALARM
ACTION:DISPLAY
DESCRIPTION:Erinnerung: Genuss auf hohem Niveau mit eigenem Stil beginnt in
  1 Stunde
TRIGGER;RELATED=END:-PT1H
END:VALARM
END:VEVENT
END:VCALENDAR
