BEGIN:VCALENDAR
PRODID:-//eluceo/ical//2.0/EN
VERSION:2.0
CALSCALE:GREGORIAN
BEGIN:VEVENT
UID:58c3ff15a6948ea731dc976e5cefa65a
DTSTAMP:20260421T071816Z
SUMMARY:Krankheit als Strafe? Ein fatales Deutungsmuster erkennen und über
 winden
DESCRIPTION:Der Studientag fragt\, warum Krankheit oft als Strafe gedeutet 
 wurde. Anhand biblischer Texte und historischer Bildwerke wird gezeigt\, w
 ie solche Vorstellungen entstanden – und warum sie kritisch hinterfragt 
 werden müssen\, um Solidarität mit Kranken zu stärken.
URL:https://www.meinplaner.com
DTSTART;TZID=Europe/Amsterdam:20260425T093000
DTEND;TZID=Europe/Amsterdam:20260425T113000
LOCATION:Schloßberg 12\, 09113 Chemnitz
BEGIN:VALARM
ACTION:DISPLAY
DESCRIPTION:Erinnerung: Krankheit als Strafe? Ein fatales Deutungsmuster er
 kennen und überwinden beginnt in 1 Stunde
TRIGGER;RELATED=END:-PT1H
END:VALARM
END:VEVENT
END:VCALENDAR
