BEGIN:VCALENDAR
PRODID:-//eluceo/ical//2.0/EN
VERSION:2.0
CALSCALE:GREGORIAN
BEGIN:VEVENT
UID:81874c0e40427c997c49bd8ab7a5cb1f
DTSTAMP:20260421T190739Z
SUMMARY:Der Super Mario Galaxy Film
DESCRIPTION:Im Film begeben sich die Brüder Mario und Luigi mit Prinzessin
  Peach und Toad auf eine aufregende Reise durch die Galaxie\, wo sie dank 
 mysteriöser Sternkatapulten neue Planeten erkunden\, gefährlichen Gegner
 n begegnen und unerwartete Freunde finden.
URL:https://www.meinplaner.com
DTSTART;TZID=Europe/Amsterdam:20260422T170000
DTEND;TZID=Europe/Amsterdam:20260422T190000
LOCATION:Jägerstr. 24\, 09212 Limbach-Oberfrohna
BEGIN:VALARM
ACTION:DISPLAY
DESCRIPTION:Erinnerung: Der Super Mario Galaxy Film beginnt in 1 Stunde
TRIGGER;RELATED=END:-PT1H
END:VALARM
END:VEVENT
END:VCALENDAR
