BEGIN:VCALENDAR
PRODID:-//eluceo/ical//2.0/EN
VERSION:2.0
CALSCALE:GREGORIAN
BEGIN:VEVENT
UID:f0160ad62f60bb4559cd57385dc095fb
DTSTAMP:20260419T144431Z
SUMMARY:Essen wie die Rittersleut' - übernachten in Betten von heut'
DESCRIPTION:Hier werden Gäste in die mittelalterlich kulinarische Zeit der
  alten Rittersleut' entführt. Neben der Gaststätte mit original einheimi
 scher Küche\, Kaminzimmer\, Saal und Ritterkeller lädt auch eine Pension
  zum Übernachten ein. Auch Hunde sind hier willkommen.
URL:https://www.meinplaner.com
DTSTART;TZID=Europe/Amsterdam:20260421T110000
DTEND;TZID=Europe/Amsterdam:20260421T140000
LOCATION:Rittergutsweg  8\, 08485 Lengenfeld
BEGIN:VALARM
ACTION:DISPLAY
DESCRIPTION:Erinnerung: Essen wie die Rittersleut' - übernachten in Betten
  von heut' beginnt in 1 Stunde
TRIGGER;RELATED=END:-PT1H
END:VALARM
END:VEVENT
BEGIN:VEVENT
UID:592503435430fe142bc3f14d5583e807
DTSTAMP:20260419T144431Z
SUMMARY:Essen wie die Rittersleut' - übernachten in Betten von heut'
DESCRIPTION:Hier werden Gäste in die mittelalterlich kulinarische Zeit der
  alten Rittersleut' entführt. Neben der Gaststätte mit original einheimi
 scher Küche\, Kaminzimmer\, Saal und Ritterkeller lädt auch eine Pension
  zum Übernachten ein. Auch Hunde sind hier willkommen.
URL:https://www.meinplaner.com
DTSTART;TZID=Europe/Amsterdam:20260421T170000
DTEND;TZID=Europe/Amsterdam:20260421T210000
LOCATION:Rittergutsweg  8\, 08485 Lengenfeld
BEGIN:VALARM
ACTION:DISPLAY
DESCRIPTION:Erinnerung: Essen wie die Rittersleut' - übernachten in Betten
  von heut' beginnt in 1 Stunde
TRIGGER;RELATED=END:-PT1H
END:VALARM
END:VEVENT
END:VCALENDAR
