BEGIN:VCALENDAR
PRODID:-//eluceo/ical//2.0/EN
VERSION:2.0
CALSCALE:GREGORIAN
BEGIN:VEVENT
UID:540c79ea05bd1637ef8bf374abf6d086
DTSTAMP:20260421T165500Z
SUMMARY:Camp & Flow – Auszeit am Wasser
DESCRIPTION:Ein Ort zum Ankommen\, Durchatmen und Wohlfühlen. Zwischen Nat
 ur\, Ruhe und kleinen\, liebevoll gestalteten Plätzen entstehen besondere
  Momente – vom Sonnenuntergang am Wasser bis zum entspannten Beisammense
 in. Ideal für alle\, die eine Pause vom Alltag suchen.
URL:https://www.meinplaner.com
DTSTART;TZID=Europe/Amsterdam:20260421T000000
DTEND;TZID=Europe/Amsterdam:20260421T235900
LOCATION:An der Zschopau  1\, 09669 Frankenberg/Sa.
BEGIN:VALARM
ACTION:DISPLAY
DESCRIPTION:Erinnerung: Camp & Flow – Auszeit am Wasser beginnt in 1 Stun
 de
TRIGGER;RELATED=END:-PT1H
END:VALARM
END:VEVENT
END:VCALENDAR
