BEGIN:VCALENDAR
PRODID:-//eluceo/ical//2.0/EN
VERSION:2.0
CALSCALE:GREGORIAN
BEGIN:VEVENT
UID:4ee91a4eced751a09b0a9ad076ea66d4
DTSTAMP:20260420T153926Z
SUMMARY:28. Chemnitzer Schultheaterwoche: Goethe trifft Moderne
DESCRIPTION:Goethe experimentiert\, doch der Versuch geht schief! Plötzlic
 h landet er in unserer Zeit\, in seinem alten Studierzimmer. Dort arbeitet
  nun Detektivin Barbara Passauf. Gemeinsam gehen sie einem seltsamen Fall 
 nach: Stimmen\, Apfelkuchen + eine verschwundene Oma.
URL:https://www.meinplaner.com
DTSTART;TZID=Europe/Amsterdam:20260422T170000
DTEND;TZID=Europe/Amsterdam:20260422T190000
LOCATION:Altchemnitzer Str. 27\, 09120 Chemnitz
BEGIN:VALARM
ACTION:DISPLAY
DESCRIPTION:Erinnerung: 28. Chemnitzer Schultheaterwoche: Goethe trifft Mod
 erne beginnt in 1 Stunde
TRIGGER;RELATED=END:-PT1H
END:VALARM
END:VEVENT
END:VCALENDAR
