BEGIN:VCALENDAR
PRODID:-//eluceo/ical//2.0/EN
VERSION:2.0
CALSCALE:GREGORIAN
BEGIN:VEVENT
UID:8f027b9ce81e903b2dbc7d97d4f1186a
DTSTAMP:20260425T234131Z
SUMMARY:Gemütliche Unterkunft
DESCRIPTION:Im Hotel im Schloßgasthaus Lichtenwalde erwartet ein einladend
 er Rückzugsort mit 4 Dreibettzimmern\, 3 Doppelzimmern\, 2 Zweibettzimmer
 n\, einem Appartement für 1-6 Personen und zwei Ferienwohnungen. Alle Zim
 mer sind mit Dusche/WC und TV ausgestattet.
URL:https://www.meinplaner.com
DTSTART;TZID=Europe/Amsterdam:20260426T080000
DTEND;TZID=Europe/Amsterdam:20260426T180000
LOCATION:Schloßallee 5\, 09577 Niederwiesa
BEGIN:VALARM
ACTION:DISPLAY
DESCRIPTION:Erinnerung: Gemütliche Unterkunft beginnt in 1 Stunde
TRIGGER;RELATED=END:-PT1H
END:VALARM
END:VEVENT
END:VCALENDAR
