BEGIN:VCALENDAR
PRODID:-//eluceo/ical//2.0/EN
VERSION:2.0
CALSCALE:GREGORIAN
BEGIN:VEVENT
UID:a2b6455bdfb182851c00bef5e0e991be
DTSTAMP:20260425T010950Z
SUMMARY:Von hier aus ins herrliche Sternmühlental
DESCRIPTION:Im herrlichen Sternmühlental am Rande von Chemnitz werden die 
 Gäste von einer freundlichen Familienatmosphäre empfangen. Im historisch
 en Gebäude oder im grünen Garten schmeckt die regional gehaltene Küche 
 mit saisonalen Zutaten. 
URL:https://www.meinplaner.com
DTSTART;TZID=Europe/Amsterdam:20260425T150000
DTEND;TZID=Europe/Amsterdam:20260426T000000
LOCATION:Ferdinandstr. 105\, 09128 Chemnitz
BEGIN:VALARM
ACTION:DISPLAY
DESCRIPTION:Erinnerung: Von hier aus ins herrliche Sternmühlental beginnt 
 in 1 Stunde
TRIGGER;RELATED=END:-PT1H
END:VALARM
END:VEVENT
END:VCALENDAR
