BEGIN:VCALENDAR
PRODID:-//eluceo/ical//2.0/EN
VERSION:2.0
CALSCALE:GREGORIAN
BEGIN:VEVENT
UID:c68ecd6f2b507077c80b6f0db4cd9fa4
DTSTAMP:20260419T161041Z
SUMMARY:Superr Bingo
DESCRIPTION:Die Welt amerikanischen Glücksspiels reicher Senioren\, greifb
 ar für jugendliche Clubgänger: Zahlenlotto\, Eierlikör und pharmazeutis
 che Preise - alles live und in Farbe. 
URL:https://www.meinplaner.com
DTSTART;TZID=Europe/Amsterdam:20260423T190000
DTEND;TZID=Europe/Amsterdam:20260423T235900
LOCATION:Annaberger Str. 73\, 09111 Chemnitz
BEGIN:VALARM
ACTION:DISPLAY
DESCRIPTION:Erinnerung: Superr Bingo beginnt in 1 Stunde
TRIGGER;RELATED=END:-PT1H
END:VALARM
END:VEVENT
END:VCALENDAR
