BEGIN:VCALENDAR
PRODID:-//eluceo/ical//2.0/EN
VERSION:2.0
CALSCALE:GREGORIAN
BEGIN:VEVENT
UID:d905d09e174974db40bed320f303fa27
DTSTAMP:20260424T055052Z
SUMMARY:Toxische Beziehung - Wenn Beziehungen abhängig machen können
DESCRIPTION:Toxische Beziehung heißt\, es entsteht ein Ungleichgewicht zwi
 schen Geben und Nehmen. Oft bleibt dies unbemerkt\, bis Konflikte eskalier
 en. Abhängige Muster entwickeln sich schleichend\, geprägt von Persönli
 chkeitsaspekten. Strategien helfen beim Umgang.
URL:https://www.meinplaner.com
DTSTART;TZID=Europe/Amsterdam:20260611T170000
DTEND;TZID=Europe/Amsterdam:20260611T190000
LOCATION:Anton-Günther-Weg 4\, 09496 Marienberg
BEGIN:VALARM
ACTION:DISPLAY
DESCRIPTION:Erinnerung: Toxische Beziehung - Wenn Beziehungen abhängig mac
 hen können beginnt in 1 Stunde
TRIGGER;RELATED=END:-PT1H
END:VALARM
END:VEVENT
END:VCALENDAR
