BEGIN:VCALENDAR
PRODID:-//eluceo/ical//2.0/EN
VERSION:2.0
CALSCALE:GREGORIAN
BEGIN:VEVENT
UID:fdf3d56bdd458857e9a7386b37f0bd3c
DTSTAMP:20260424T021000Z
SUMMARY:Michael
DESCRIPTION:Der Film beleuchtet Michael Jacksons faszinierendes Leben\, von
  den Anfängen als Leadsänger der Jackson Five bis zu seinem Aufstieg als
  visionärer Künstler und gewährt einen einzigartigen Einblick in seine 
 legendären Auftritte und das Leben abseits der Bühne.
URL:https://www.meinplaner.com
DTSTART;TZID=Europe/Amsterdam:20260424T151500
DTEND;TZID=Europe/Amsterdam:20260424T171500
LOCATION:Hartensteiner Str. 11\, 08289 Schneeberg
BEGIN:VALARM
ACTION:DISPLAY
DESCRIPTION:Erinnerung: Michael beginnt in 1 Stunde
TRIGGER;RELATED=END:-PT1H
END:VALARM
END:VEVENT
BEGIN:VEVENT
UID:c8474c03f2e43ead27a3107a7d563d38
DTSTAMP:20260424T021000Z
SUMMARY:Michael
DESCRIPTION:Der Film beleuchtet Michael Jacksons faszinierendes Leben\, von
  den Anfängen als Leadsänger der Jackson Five bis zu seinem Aufstieg als
  visionärer Künstler und gewährt einen einzigartigen Einblick in seine 
 legendären Auftritte und das Leben abseits der Bühne.
URL:https://www.meinplaner.com
DTSTART;TZID=Europe/Amsterdam:20260424T201500
DTEND;TZID=Europe/Amsterdam:20260424T221500
LOCATION:Hartensteiner Str. 11\, 08289 Schneeberg
BEGIN:VALARM
ACTION:DISPLAY
DESCRIPTION:Erinnerung: Michael beginnt in 1 Stunde
TRIGGER;RELATED=END:-PT1H
END:VALARM
END:VEVENT
BEGIN:VEVENT
UID:f71365143ee4160501b2836ad5a2e981
DTSTAMP:20260424T021000Z
SUMMARY:Michael
DESCRIPTION:Der Film beleuchtet Michael Jacksons faszinierendes Leben\, von
  den Anfängen als Leadsänger der Jackson Five bis zu seinem Aufstieg als
  visionärer Künstler und gewährt einen einzigartigen Einblick in seine 
 legendären Auftritte und das Leben abseits der Bühne.
URL:https://www.meinplaner.com
DTSTART;TZID=Europe/Amsterdam:20260424T173000
DTEND;TZID=Europe/Amsterdam:20260424T193000
LOCATION:Hartensteiner Str. 11\, 08289 Schneeberg
BEGIN:VALARM
ACTION:DISPLAY
DESCRIPTION:Erinnerung: Michael beginnt in 1 Stunde
TRIGGER;RELATED=END:-PT1H
END:VALARM
END:VEVENT
END:VCALENDAR
