BEGIN:VCALENDAR
PRODID:-//eluceo/ical//2.0/EN
VERSION:2.0
CALSCALE:GREGORIAN
BEGIN:VEVENT
UID:a45180f170abc92292288b8a23590fa8
DTSTAMP:20260423T121137Z
SUMMARY:Endlich 18! Bald ziehen wir aus…
DESCRIPTION:Ein Blick in die Zukunft der Skatekultur: Die neue Skatehalle 
 öffnet ihre Türen mit Einblicken in die Räume\, Mitmachangeboten und en
 tspannter Atmosphäre. Begehung\, Workshops\, Musik sowie Grill und Geträ
 nke sorgen für ein abwechslungsreiches Programm.
URL:https://www.meinplaner.com
DTSTART;TZID=Europe/Amsterdam:20260425T150000
DTEND;TZID=Europe/Amsterdam:20260425T170000
LOCATION:Schönherrstr. 8\, 09113 Chemnitz
BEGIN:VALARM
ACTION:DISPLAY
DESCRIPTION:Erinnerung: Endlich 18! Bald ziehen wir aus… beginnt in 1 Stu
 nde
TRIGGER;RELATED=END:-PT1H
END:VALARM
END:VEVENT
END:VCALENDAR
