BEGIN:VCALENDAR
PRODID:-//eluceo/ical//2.0/EN
VERSION:2.0
CALSCALE:GREGORIAN
BEGIN:VEVENT
UID:edf51d7e3e3e559d6c930a3ceb5bae73
DTSTAMP:20260424T144855Z
SUMMARY:Bilderbuchstunde mit Booksy
DESCRIPTION:Wie an jedem letzten Mittwoch im Monat gibt es für Kinder zwis
 chen 3 und 10 Jahren die Bilderbuchstunde. Vorgelesen werden lustige\, ver
 rückte oder spannende Geschichten. Anschließend wird gemeinsam gebastelt
 .
URL:https://www.meinplaner.com
DTSTART;TZID=Europe/Amsterdam:20260429T153000
DTEND;TZID=Europe/Amsterdam:20260429T163000
LOCATION:Korngasse 14\, 09599 Freiberg
BEGIN:VALARM
ACTION:DISPLAY
DESCRIPTION:Erinnerung: Bilderbuchstunde mit Booksy beginnt in 1 Stunde
TRIGGER;RELATED=END:-PT1H
END:VALARM
END:VEVENT
END:VCALENDAR
