BEGIN:VCALENDAR
PRODID:-//eluceo/ical//2.0/EN
VERSION:2.0
CALSCALE:GREGORIAN
BEGIN:VEVENT
UID:8793e4928c11e063e85a17a17dcbc9a5
DTSTAMP:20260425T002205Z
SUMMARY:Paper Planet | THEATER DER WELT
DESCRIPTION:In der Hartmannfabrik entsteht ein begehbarer Wald aus Karton. 
 Kinder und Erwachsene gestalten gemeinsam Figuren\, Landschaften und Gesch
 ichten – ein kreatives Erlebnis zum Mitmachen\, Entdecken und Erfinden.
URL:https://www.meinplaner.com
DTSTART;TZID=Europe/Amsterdam:20260618T093000
DTEND;TZID=Europe/Amsterdam:20260618T103000
LOCATION:Fabrikstraße  11\, 09111 Chemnitz
BEGIN:VALARM
ACTION:DISPLAY
DESCRIPTION:Erinnerung: Paper Planet | THEATER DER WELT beginnt in 1 Stunde
TRIGGER;RELATED=END:-PT1H
END:VALARM
END:VEVENT
BEGIN:VEVENT
UID:21a7cb87e18e268bb9893da2f0995cfa
DTSTAMP:20260425T002205Z
SUMMARY:Paper Planet | THEATER DER WELT
DESCRIPTION:In der Hartmannfabrik entsteht ein begehbarer Wald aus Karton. 
 Kinder und Erwachsene gestalten gemeinsam Figuren\, Landschaften und Gesch
 ichten – ein kreatives Erlebnis zum Mitmachen\, Entdecken und Erfinden.
URL:https://www.meinplaner.com
DTSTART;TZID=Europe/Amsterdam:20260618T140000
DTEND;TZID=Europe/Amsterdam:20260618T160000
LOCATION:Fabrikstraße  11\, 09111 Chemnitz
BEGIN:VALARM
ACTION:DISPLAY
DESCRIPTION:Erinnerung: Paper Planet | THEATER DER WELT beginnt in 1 Stunde
TRIGGER;RELATED=END:-PT1H
END:VALARM
END:VEVENT
BEGIN:VEVENT
UID:34c9b9e7a60a256161fa4eba893fbffb
DTSTAMP:20260425T002205Z
SUMMARY:Paper Planet | THEATER DER WELT
DESCRIPTION:In der Hartmannfabrik entsteht ein begehbarer Wald aus Karton. 
 Kinder und Erwachsene gestalten gemeinsam Figuren\, Landschaften und Gesch
 ichten – ein kreatives Erlebnis zum Mitmachen\, Entdecken und Erfinden.
URL:https://www.meinplaner.com
DTSTART;TZID=Europe/Amsterdam:20260618T110000
DTEND;TZID=Europe/Amsterdam:20260618T120000
LOCATION:Fabrikstraße  11\, 09111 Chemnitz
BEGIN:VALARM
ACTION:DISPLAY
DESCRIPTION:Erinnerung: Paper Planet | THEATER DER WELT beginnt in 1 Stunde
TRIGGER;RELATED=END:-PT1H
END:VALARM
END:VEVENT
END:VCALENDAR
