BEGIN:VCALENDAR
PRODID:-//eluceo/ical//2.0/EN
VERSION:2.0
CALSCALE:GREGORIAN
BEGIN:VEVENT
UID:a346e1d2fadb8ef707033a2b4129c5ba
DTSTAMP:20260423T191225Z
SUMMARY:Admedia Freiberg - Rehazentrum
DESCRIPTION:Auf 2.200 m² vereint das Zentrum großzügige Trainings- und T
 herapieflächen\, moderne Bewegungsbäder\, ein lichtdurchflutetes Bistro 
 und Ruhezonen. Ergänzt wird das Angebot durch vielfältige Gesundheits- u
 nd Präventionskurse für eine ganzheitliche Rehabilitation.
URL:https://www.meinplaner.com
DTSTART;TZID=Europe/Amsterdam:20260424T071500
DTEND;TZID=Europe/Amsterdam:20260424T153000
LOCATION:Dörnerzaunstr. 5\, 09599 Freiberg
BEGIN:VALARM
ACTION:DISPLAY
DESCRIPTION:Erinnerung: Admedia Freiberg - Rehazentrum beginnt in 1 Stunde
TRIGGER;RELATED=END:-PT1H
END:VALARM
END:VEVENT
END:VCALENDAR
