BEGIN:VCALENDAR
PRODID:-//eluceo/ical//2.0/EN
VERSION:2.0
CALSCALE:GREGORIAN
BEGIN:VEVENT
UID:c43b4ad5db13cdfe00a18f143004f5b2
DTSTAMP:20260420T173839Z
SUMMARY:Pochen Symposium: Quizshow mit Falk Töpfer
DESCRIPTION:Das Kneipenquiz zeigt wie man reich wird\, indem man versteht\,
  wie andere zu Reichtum kamen: In der Rateshow über Erbe\, Wirtschaft und
  Steuerschlupflöcher lädt Falk Töpfer ein\, in 4 Runden zu spielen\, zu
  erben oder alles zu verlieren und das System zu verstehen
URL:https://www.meinplaner.com
DTSTART;TZID=Europe/Amsterdam:20260508T190000
DTEND;TZID=Europe/Amsterdam:20260508T230000
LOCATION:Am Rathaus 8\, 09111 Chemnitz
BEGIN:VALARM
ACTION:DISPLAY
DESCRIPTION:Erinnerung: Pochen Symposium: Quizshow mit Falk Töpfer beginnt
  in 1 Stunde
TRIGGER;RELATED=END:-PT1H
END:VALARM
END:VEVENT
END:VCALENDAR
