BEGIN:VCALENDAR
PRODID:-//eluceo/ical//2.0/EN
VERSION:2.0
CALSCALE:GREGORIAN
BEGIN:VEVENT
UID:87bcaa7f3b23e329ba9b4d868bf2643c
DTSTAMP:20260421T102514Z
SUMMARY:Angebote mumm Fitness
DESCRIPTION:In den modernen und angenehmen Räumlichkeiten geht es um das T
 raining von Muskeln & Ausdauer und gleichzeitig um Gesundheit als Basis f
 ür einen kraftvollen Körper. 
URL:https://www.meinplaner.com
DTSTART;TZID=Europe/Amsterdam:20260421T090000
DTEND;TZID=Europe/Amsterdam:20260421T220000
LOCATION:Meißner Ring 6\, 09599 Freiberg
BEGIN:VALARM
ACTION:DISPLAY
DESCRIPTION:Erinnerung: Angebote mumm Fitness beginnt in 1 Stunde
TRIGGER;RELATED=END:-PT1H
END:VALARM
END:VEVENT
END:VCALENDAR
