BEGIN:VCALENDAR
PRODID:-//eluceo/ical//2.0/EN
VERSION:2.0
CALSCALE:GREGORIAN
BEGIN:VEVENT
UID:d8937dc502b51b8f7d5932cfdfb9e80f
DTSTAMP:20260420T154059Z
SUMMARY:Wazn Teez?
DESCRIPTION:„Wazn teez?“ fragt die Libelle – und schon beginnt ein za
 rtes Pflänzlein zu wachsen\, das bald zum Lebensraum für viele Insekten 
 wird. Carson Ellis’ poetische Geschichte zeigt den Kreislauf des Lebens\
 , den Julia Brettschneider spielerisch auf die Bühne bringt.
URL:https://www.meinplaner.com
DTSTART;TZID=Europe/Amsterdam:20260426T160000
DTEND;TZID=Europe/Amsterdam:20260426T180000
LOCATION:Altchemnitzer Str. 27\, 09120 Chemnitz
BEGIN:VALARM
ACTION:DISPLAY
DESCRIPTION:Erinnerung: Wazn Teez? beginnt in 1 Stunde
TRIGGER;RELATED=END:-PT1H
END:VALARM
END:VEVENT
END:VCALENDAR
