BEGIN:VCALENDAR
PRODID:-//eluceo/ical//2.0/EN
VERSION:2.0
CALSCALE:GREGORIAN
BEGIN:VEVENT
UID:db50d1459006c2c7b5edcb4f57cb7160
DTSTAMP:20260420T014259Z
SUMMARY:Rüsseltiere
DESCRIPTION:Eine Sonderausstellung im Museum für Naturkunde beleuchtet die
  Evolution der Rüsseltiere. Fossilien aus der Sammlung machen die Entwick
 lung von Elefant\, Mammut und Co. anschaulich erlebbar – von frühen Vor
 fahren bis in die Gegenwart.
URL:https://www.meinplaner.com
DTSTART;TZID=Europe/Amsterdam:20260420T090000
DTEND;TZID=Europe/Amsterdam:20260420T170000
LOCATION:Moritzstr. 20\, 09111 Chemnitz
BEGIN:VALARM
ACTION:DISPLAY
DESCRIPTION:Erinnerung: Rüsseltiere beginnt in 1 Stunde
TRIGGER;RELATED=END:-PT1H
END:VALARM
END:VEVENT
END:VCALENDAR
