BEGIN:VCALENDAR
PRODID:-//eluceo/ical//2.0/EN
VERSION:2.0
CALSCALE:GREGORIAN
BEGIN:VEVENT
UID:d455081fc07072f273c7ed36681beee5
DTSTAMP:20260424T072154Z
SUMMARY:Ortskundig: Gestern ist heute wird morgen
DESCRIPTION:„Gestern ist heute wird morgen“ steht als sechs Meter hohe 
 Edelstahlplastik für die industrielle Geschichte der Stadt. Im Projekt 
 „Ortskundig“ wurde die Bevölkerung früh einbezogen\, wodurch Verbund
 enheit\, Mitwirkung und Gemeinschaft nachhaltig gestärkt wurden.
URL:https://www.meinplaner.com
DTSTART;TZID=Europe/Amsterdam:20260424T000000
DTEND;TZID=Europe/Amsterdam:20260424T235900
LOCATION:Fabrikstraße  11\, 09111 Chemnitz
BEGIN:VALARM
ACTION:DISPLAY
DESCRIPTION:Erinnerung: Ortskundig: Gestern ist heute wird morgen beginnt i
 n 1 Stunde
TRIGGER;RELATED=END:-PT1H
END:VALARM
END:VEVENT
END:VCALENDAR
