BEGIN:VCALENDAR
PRODID:-//eluceo/ical//2.0/EN
VERSION:2.0
CALSCALE:GREGORIAN
BEGIN:VEVENT
UID:2be5fc7a4f359218b42f3e3efd8c46c7
DTSTAMP:20260420T150222Z
SUMMARY:Shelter
DESCRIPTION:Inmitten eines Sturms rettet ein untergetauchter Elite-Agent au
 f einer abgelegenen Insel ein Mädchen vor dem Ertrinken\, was ihn in eine
  gefährliche Kette von Ereignissen verwickelt\, die sein Versteck bedrohe
 n und seine dunkle Vergangenheit ans Licht bringen.
URL:https://www.meinplaner.com
DTSTART;TZID=Europe/Amsterdam:20260420T201500
DTEND;TZID=Europe/Amsterdam:20260420T221500
LOCATION:Poetenweg 6-8\, 08056 Zwickau
BEGIN:VALARM
ACTION:DISPLAY
DESCRIPTION:Erinnerung: Shelter beginnt in 1 Stunde
TRIGGER;RELATED=END:-PT1H
END:VALARM
END:VEVENT
BEGIN:VEVENT
UID:13b47b21115df9d9d00dd5da02c1117f
DTSTAMP:20260420T150222Z
SUMMARY:Shelter
DESCRIPTION:Inmitten eines Sturms rettet ein untergetauchter Elite-Agent au
 f einer abgelegenen Insel ein Mädchen vor dem Ertrinken\, was ihn in eine
  gefährliche Kette von Ereignissen verwickelt\, die sein Versteck bedrohe
 n und seine dunkle Vergangenheit ans Licht bringen.
URL:https://www.meinplaner.com
DTSTART;TZID=Europe/Amsterdam:20260420T173000
DTEND;TZID=Europe/Amsterdam:20260420T193000
LOCATION:Poetenweg 6-8\, 08056 Zwickau
BEGIN:VALARM
ACTION:DISPLAY
DESCRIPTION:Erinnerung: Shelter beginnt in 1 Stunde
TRIGGER;RELATED=END:-PT1H
END:VALARM
END:VEVENT
END:VCALENDAR
