BEGIN:VCALENDAR
PRODID:-//eluceo/ical//2.0/EN
VERSION:2.0
CALSCALE:GREGORIAN
BEGIN:VEVENT
UID:dc0f4e53021a65d4b8afa9405a1c4dfc
DTSTAMP:20260424T205108Z
SUMMARY:Orgelsommer - Eröffnungskonzert
DESCRIPTION:Der Orgelsommer startet mit einem festlichen Konzert. Klangvoll
 e Orgelmusik eröffnet die Konzertreihe und schafft einen besonderen musik
 alischen Auftakt.
URL:https://www.meinplaner.com
DTSTART;TZID=Europe/Amsterdam:20260502T193000
DTEND;TZID=Europe/Amsterdam:20260502T213000
LOCATION:Klösterleinweg  5\, 08280 Aue-Bad Schlema
BEGIN:VALARM
ACTION:DISPLAY
DESCRIPTION:Erinnerung: Orgelsommer - Eröffnungskonzert beginnt in 1 Stund
 e
TRIGGER;RELATED=END:-PT1H
END:VALARM
END:VEVENT
END:VCALENDAR
