BEGIN:VCALENDAR
PRODID:-//eluceo/ical//2.0/EN
VERSION:2.0
CALSCALE:GREGORIAN
BEGIN:VEVENT
UID:07710ac332be6ec17b0baefefa0208f9
DTSTAMP:20260424T203925Z
SUMMARY:BRUNNENMUSIK am Musikbrunnen 
DESCRIPTION:BRUNNENMUSIK am Musikbrunnen „Martin Ebert“ im Kurpark Bad 
 Schlema – ein musikalisches Erlebnis inmitten blühender Natur. Stimmung
 svolle Klänge laden zum Verweilen und Genießen ein. Eintritt frei\, bei 
 jedem Wetter ein besonderes Erlebnis.
URL:https://www.meinplaner.com
DTSTART;TZID=Europe/Amsterdam:20260503T150000
DTEND;TZID=Europe/Amsterdam:20260503T170000
LOCATION:Am Kurpark \, 08301 Bad Schlema
BEGIN:VALARM
ACTION:DISPLAY
DESCRIPTION:Erinnerung: BRUNNENMUSIK am Musikbrunnen  beginnt in 1 Stunde
TRIGGER;RELATED=END:-PT1H
END:VALARM
END:VEVENT
END:VCALENDAR
