BEGIN:VCALENDAR
PRODID:-//eluceo/ical//2.0/EN
VERSION:2.0
CALSCALE:GREGORIAN
BEGIN:VEVENT
UID:c805bbaf5d9fb1cf77b3ebaaed59cbc9
DTSTAMP:20260423T035540Z
SUMMARY:Männertag meets Birthday
DESCRIPTION:Ein besonderer Feiertag trifft auf Party: Männertag und Geburt
 stag werden gemeinsam gefeiert. Mit Kuchen\, Bier und lockerer Stimmung en
 tsteht ein geselliger Mix aus Feierlaune und Genuss. 🎉🍺🎂
URL:https://www.meinplaner.com
DTSTART;TZID=Europe/Amsterdam:20260514T200000
DTEND;TZID=Europe/Amsterdam:20260514T220000
LOCATION:Bahnhofstr. 18\, 09111 Chemnitz
BEGIN:VALARM
ACTION:DISPLAY
DESCRIPTION:Erinnerung: Männertag meets Birthday beginnt in 1 Stunde
TRIGGER;RELATED=END:-PT1H
END:VALARM
END:VEVENT
END:VCALENDAR
