BEGIN:VCALENDAR
PRODID:-//eluceo/ical//2.0/EN
VERSION:2.0
CALSCALE:GREGORIAN
BEGIN:VEVENT
UID:dfd2edc4736f0d2e15759c1b9f99076a
DTSTAMP:20260424T091808Z
SUMMARY:Keramik-Nachtmalen
DESCRIPTION:Alles was man zum Bemalen braucht\, wartet auf kreative Keramik
 liebhaber. Die ungiftigen Farben (70 div.) lassen sich leicht mit Wasser e
 ntfernen! Noch am selben Tag wird glasiert & gebrannt und das Produkt kann
  spätestens nach 7 bis 10 Tagen abgeholt werden.
URL:https://www.meinplaner.com
DTSTART;TZID=Europe/Amsterdam:20260529T200000
DTEND;TZID=Europe/Amsterdam:20260529T220000
LOCATION:Kreisigstr. 2\, 08056 Zwickau
BEGIN:VALARM
ACTION:DISPLAY
DESCRIPTION:Erinnerung: Keramik-Nachtmalen beginnt in 1 Stunde
TRIGGER;RELATED=END:-PT1H
END:VALARM
END:VEVENT
END:VCALENDAR
