BEGIN:VCALENDAR
PRODID:-//eluceo/ical//2.0/EN
VERSION:2.0
CALSCALE:GREGORIAN
BEGIN:VEVENT
UID:a72a11c4dfccc11b3af2e633d2776a94
DTSTAMP:20260420T190522Z
SUMMARY:Tierpark Chemnitz
DESCRIPTION:Auf dem fast zehn Hektar große Gelände leben rund 250 Tierart
 en\, allein in dem für Europa einzigartigen Vivarium sind über 80 Amphib
 ienarten zu entdecken. Ganzjährig ein Ausflugsziel für Familien.
URL:https://www.meinplaner.com
DTSTART;TZID=Europe/Amsterdam:20260421T090000
DTEND;TZID=Europe/Amsterdam:20260421T190000
LOCATION:Nevoigtstr. 18\, 09117 Chemnitz
BEGIN:VALARM
ACTION:DISPLAY
DESCRIPTION:Erinnerung: Tierpark Chemnitz beginnt in 1 Stunde
TRIGGER;RELATED=END:-PT1H
END:VALARM
END:VEVENT
END:VCALENDAR
