BEGIN:VCALENDAR
PRODID:-//eluceo/ical//2.0/EN
VERSION:2.0
CALSCALE:GREGORIAN
BEGIN:VEVENT
UID:9c7c582f62b548c769c9fd15f64dbb7d
DTSTAMP:20260426T024523Z
SUMMARY:B2BA’s Blumenbeat
DESCRIPTION:Blumen\, Beats und Frühlingslaune: Der B2BA Store in Hohenstei
 n-Ernstthal lädt zum kreativen Wochenende ein. Mit Live-Musik\, Graffiti-
 Trabi\, Mitmachaktionen und Bastelspaß für Kinder wird der Frühling bun
 t und lebendig gefeiert.
URL:https://www.meinplaner.com
DTSTART;TZID=Europe/Amsterdam:20260426T120000
DTEND;TZID=Europe/Amsterdam:20260426T180000
LOCATION:Kunzegasse 1\, 09337 Hohenstein-Ernstthal
BEGIN:VALARM
ACTION:DISPLAY
DESCRIPTION:Erinnerung: B2BA’s Blumenbeat beginnt in 1 Stunde
TRIGGER;RELATED=END:-PT1H
END:VALARM
END:VEVENT
END:VCALENDAR
