BEGIN:VCALENDAR
PRODID:-//eluceo/ical//2.0/EN
VERSION:2.0
CALSCALE:GREGORIAN
BEGIN:VEVENT
UID:225af58bd6bd02916d47157622c14e4a
DTSTAMP:20260421T033621Z
SUMMARY:Verleihung der Großen Elster
DESCRIPTION:Im Rahmen einer Festveranstaltung werden Menschen ausgezeichnet
 \, die sich über viele Jahre ehrenamtlich für das Gemeinwohl eingesetzt 
 haben.
URL:https://www.meinplaner.com
DTSTART;TZID=Europe/Amsterdam:20260623T190000
DTEND;TZID=Europe/Amsterdam:20260623T210000
LOCATION:Badstr. 25\, 08645 Bad Elster
BEGIN:VALARM
ACTION:DISPLAY
DESCRIPTION:Erinnerung: Verleihung der Großen Elster beginnt in 1 Stunde
TRIGGER;RELATED=END:-PT1H
END:VALARM
END:VEVENT
END:VCALENDAR
