BEGIN:VCALENDAR
PRODID:-//eluceo/ical//2.0/EN
VERSION:2.0
CALSCALE:GREGORIAN
BEGIN:VEVENT
UID:4a499077f06d812aeb828582e37aa34a
DTSTAMP:20260424T072459Z
SUMMARY:Allgemeine Führung
DESCRIPTION:Eine Überblicksführung zu Leben und Werk Karl Mays bietet fas
 zinierende Einblicke in das Schaffen des berühmten Schriftstellers – au
 f Wunsch können thematische Schwerpunkte gesetzt werden\, um seine Welt n
 och intensiver zu erleben.
URL:https://www.meinplaner.com
DTSTART;TZID=Europe/Amsterdam:20260424T100000
DTEND;TZID=Europe/Amsterdam:20260424T170000
LOCATION:Karl-May-Str. 54\, 09337 Hohenstein-Ernstthal
BEGIN:VALARM
ACTION:DISPLAY
DESCRIPTION:Erinnerung: Allgemeine Führung beginnt in 1 Stunde
TRIGGER;RELATED=END:-PT1H
END:VALARM
END:VEVENT
END:VCALENDAR
