BEGIN:VCALENDAR
PRODID:-//eluceo/ical//2.0/EN
VERSION:2.0
CALSCALE:GREGORIAN
BEGIN:VEVENT
UID:2d6c88d6f3fadf43311e086ada21b98b
DTSTAMP:20260423T010425Z
SUMMARY:Kiez-Ambiente und Selbstgebackenes
DESCRIPTION:Er ist Kult "Emmas Onkel". Gesehen hat ihn noch keiner. Bei ihm
  wohlgefühlt viele.  Ganz wie in einem großen Wohnzimmer\, lädt die Kie
 zwohlführestauration auf dem Kaßberg ein zu leckeren selbstgebackenen Ku
 chen\, Torten\, Eis und viele Tee- und Kaffeesorten. 
URL:https://www.meinplaner.com
DTSTART;TZID=Europe/Amsterdam:20260423T140000
DTEND;TZID=Europe/Amsterdam:20260423T230000
LOCATION:Weststr.  67\, 09112 Chemnitz
BEGIN:VALARM
ACTION:DISPLAY
DESCRIPTION:Erinnerung: Kiez-Ambiente und Selbstgebackenes beginnt in 1 Stu
 nde
TRIGGER;RELATED=END:-PT1H
END:VALARM
END:VEVENT
END:VCALENDAR
