BEGIN:VCALENDAR
PRODID:-//eluceo/ical//2.0/EN
VERSION:2.0
CALSCALE:GREGORIAN
BEGIN:VEVENT
UID:d00bca02c7ed5dc6e3939793b750d03b
DTSTAMP:20260425T001958Z
SUMMARY:Vier können auch anders
DESCRIPTION:Wir haben nicht genügend Lehrer\, aber dafür sind gendergerec
 hte Toiletten das Allerwichtigste. Und das im Wahljahr. Uns bleibt auch ni
 chts erspart. Aber warum stehen plötzlich zweimal Zweigler und zweimal Ul
 bricht auf der Bühne? Fragen über Fragen.
URL:https://www.meinplaner.com
DTSTART;TZID=Europe/Amsterdam:20260507T200000
DTEND;TZID=Europe/Amsterdam:20260507T220000
LOCATION:An der Markthalle 1 -3\, 09111 Chemnitz
BEGIN:VALARM
ACTION:DISPLAY
DESCRIPTION:Erinnerung: Vier können auch anders beginnt in 1 Stunde
TRIGGER;RELATED=END:-PT1H
END:VALARM
END:VEVENT
END:VCALENDAR
