BEGIN:VCALENDAR
PRODID:-//eluceo/ical//2.0/EN
VERSION:2.0
CALSCALE:GREGORIAN
BEGIN:VEVENT
UID:2a93004af13a31c09322bed4101b2873
DTSTAMP:20260423T003824Z
SUMMARY:Tag des Bieres – Special in der Bar
DESCRIPTION:Am 23. April dreht sich alles um Bier: Für einen Tag gibt es 1
 0 % Rabatt auf alle To-Go-Biere. Ob Wegbier oder Kiste – die perfekte Ge
 legenheit\, sich einzudecken und den Tag des Bieres zu feiern. 🍺
URL:https://www.meinplaner.com
DTSTART;TZID=Europe/Amsterdam:20260423T170000
DTEND;TZID=Europe/Amsterdam:20260423T190000
LOCATION:Reichsstr. 1\, 09112 Chemnitz
BEGIN:VALARM
ACTION:DISPLAY
DESCRIPTION:Erinnerung: Tag des Bieres – Special in der Bar beginnt in 1 
 Stunde
TRIGGER;RELATED=END:-PT1H
END:VALARM
END:VEVENT
END:VCALENDAR
