BEGIN:VCALENDAR
PRODID:-//eluceo/ical//2.0/EN
VERSION:2.0
CALSCALE:GREGORIAN
BEGIN:VEVENT
UID:9176fa2f0ac4ff95827101139fbd5534
DTSTAMP:20260425T134828Z
SUMMARY:Saltatio Mortis
DESCRIPTION:Saltatio Mortis eröffnet mit „Staub & Schatten“ ein neues 
 Kapitel und kehrt 2026 mit einer Burgentour zu ihren Wurzeln zurück – e
 in eindrucksvolles Zusammenspiel aus historischen Klängen und modernem Ro
 ck\, das die Wandelbarkeit der Band zeigt.
URL:https://www.meinplaner.com
DTSTART;TZID=Europe/Amsterdam:20260620T190000
DTEND;TZID=Europe/Amsterdam:20260620T235900
LOCATION:Wasserschloßweg 6\, 09123 Chemnitz
BEGIN:VALARM
ACTION:DISPLAY
DESCRIPTION:Erinnerung: Saltatio Mortis beginnt in 1 Stunde
TRIGGER;RELATED=END:-PT1H
END:VALARM
END:VEVENT
END:VCALENDAR
