BEGIN:VCALENDAR
PRODID:-//eluceo/ical//2.0/EN
VERSION:2.0
CALSCALE:GREGORIAN
BEGIN:VEVENT
UID:ba18b1aee74028e64480c44f518aaf65
DTSTAMP:20260423T183924Z
SUMMARY:Der Räuber Hotzenplotz und die Mondrakete
DESCRIPTION:Räuber Hotzenplotz ist wieder auf der Flucht. Kasper und Seppe
 l sollen ihn wieder einfangen. Doch wo steckt er? Auf dem Mond? Er soll ja
  aus purem Silber sein. Sie bauen eine Mondrakete. In der Geschichte von O
 . Preußler erfahren Kinder viel über Raumfahrt.
URL:https://www.meinplaner.com
DTSTART;TZID=Europe/Amsterdam:20260503T153000
DTEND;TZID=Europe/Amsterdam:20260503T173000
LOCATION:Milchstr. 1\, 09430 Drebach
BEGIN:VALARM
ACTION:DISPLAY
DESCRIPTION:Erinnerung: Der Räuber Hotzenplotz und die Mondrakete beginnt 
 in 1 Stunde
TRIGGER;RELATED=END:-PT1H
END:VALARM
END:VEVENT
END:VCALENDAR
