BEGIN:VCALENDAR
PRODID:-//eluceo/ical//2.0/EN
VERSION:2.0
CALSCALE:GREGORIAN
BEGIN:VEVENT
UID:c0a8217f68b5f84f2ee0cee9989bb804
DTSTAMP:20260420T104833Z
SUMMARY:Hoppers 2D/3D
DESCRIPTION:In HOPPERS entdecken Wissenschaftler eine Technik\, mit der men
 schliches Bewusstsein in lebensechte Robotertiere springt. So können Mens
 chen als Tiere mit Tieren sprechen. Mabel entdeckt dabei unglaubliche Gehe
 imnisse der Tierwelt.
URL:https://www.meinplaner.com
DTSTART;TZID=Europe/Amsterdam:20260420T170000
DTEND;TZID=Europe/Amsterdam:20260420T190000
LOCATION:Poetenweg 6-8\, 08056 Zwickau
BEGIN:VALARM
ACTION:DISPLAY
DESCRIPTION:Erinnerung: Hoppers 2D/3D beginnt in 1 Stunde
TRIGGER;RELATED=END:-PT1H
END:VALARM
END:VEVENT
BEGIN:VEVENT
UID:b480535db5c93751e2b878f5dd91dc11
DTSTAMP:20260420T104833Z
SUMMARY:Hoppers 2D/3D
DESCRIPTION:In HOPPERS entdecken Wissenschaftler eine Technik\, mit der men
 schliches Bewusstsein in lebensechte Robotertiere springt. So können Mens
 chen als Tiere mit Tieren sprechen. Mabel entdeckt dabei unglaubliche Gehe
 imnisse der Tierwelt.
URL:https://www.meinplaner.com
DTSTART;TZID=Europe/Amsterdam:20260420T151500
DTEND;TZID=Europe/Amsterdam:20260420T171500
LOCATION:Poetenweg 6-8\, 08056 Zwickau
BEGIN:VALARM
ACTION:DISPLAY
DESCRIPTION:Erinnerung: Hoppers 2D/3D beginnt in 1 Stunde
TRIGGER;RELATED=END:-PT1H
END:VALARM
END:VEVENT
END:VCALENDAR
