BEGIN:VCALENDAR
PRODID:-//eluceo/ical//2.0/EN
VERSION:2.0
CALSCALE:GREGORIAN
BEGIN:VEVENT
UID:bc68a7d5fa0b704633dd5b6df57f6c17
DTSTAMP:20260419T164238Z
SUMMARY:Dinner-Date Spargel
DESCRIPTION:Ein kulinarischer Abend rund um das Frühlingsgemüse: Spargel 
 wird in verschiedenen Variationen serviert – klassisch interpretiert und
  kreativ neu gedacht. Ein Genussmoment voller Geschmack und saisonaler Vie
 lfalt.
URL:https://www.meinplaner.com
DTSTART;TZID=Europe/Amsterdam:20260529T170000
DTEND;TZID=Europe/Amsterdam:20260529T210000
LOCATION:Zschopauer Str.  209\, 09126 Chemnitz
BEGIN:VALARM
ACTION:DISPLAY
DESCRIPTION:Erinnerung: Dinner-Date Spargel beginnt in 1 Stunde
TRIGGER;RELATED=END:-PT1H
END:VALARM
END:VEVENT
END:VCALENDAR
