BEGIN:VCALENDAR
PRODID:-//eluceo/ical//2.0/EN
VERSION:2.0
CALSCALE:GREGORIAN
BEGIN:VEVENT
UID:0685f78408fd687827650c42195aa4a6
DTSTAMP:20260425T165333Z
SUMMARY:Martinsgans-Essen
DESCRIPTION:Diese Tradition steht in der erzgebirgischen Küche mit ganz ob
 en in der Beliebtheitsskala. Schon beim Lesen tropft da so Manchem der Zah
 n: Gänseschmaus mit Rotkohl und Klößen. Wer dann noch Platz im Bauch ha
 t\, darf am großen Dessertbuffet zulangen. 
URL:https://www.meinplaner.com
DTSTART;TZID=Europe/Amsterdam:20261111T180000
DTEND;TZID=Europe/Amsterdam:20261111T210000
LOCATION:Am Sauberg 1A\, 09427 Ehrenfriedersdorf
BEGIN:VALARM
ACTION:DISPLAY
DESCRIPTION:Erinnerung: Martinsgans-Essen beginnt in 1 Stunde
TRIGGER;RELATED=END:-PT1H
END:VALARM
END:VEVENT
END:VCALENDAR
