BEGIN:VCALENDAR
PRODID:-//eluceo/ical//2.0/EN
VERSION:2.0
CALSCALE:GREGORIAN
BEGIN:VEVENT
UID:e61a433bbf17f3dae30edec5d2452328
DTSTAMP:20260424T175638Z
SUMMARY:Italien mitten in Chemnitz mit himmlischen Versuchungen
DESCRIPTION:Italien mitten in Chemnitz! Hier finden Feinschmecker alles\, w
 enn der Gaumen von dem Land träumt\, in dem nicht nur die Zitronen blühe
 n\, sondern wo knusprige Pizza\, hausgemachte Pasta\, himmlische süße Ve
 rsuchungen und erlesene Weine serviert werden.\n
URL:https://www.meinplaner.com
DTSTART;TZID=Europe/Amsterdam:20260424T113000
DTEND;TZID=Europe/Amsterdam:20260424T235900
LOCATION:Rosenhof 4-6\, 09111 Chemnitz
BEGIN:VALARM
ACTION:DISPLAY
DESCRIPTION:Erinnerung: Italien mitten in Chemnitz mit himmlischen Versuchu
 ngen beginnt in 1 Stunde
TRIGGER;RELATED=END:-PT1H
END:VALARM
END:VEVENT
END:VCALENDAR
