BEGIN:VCALENDAR
PRODID:-//eluceo/ical//2.0/EN
VERSION:2.0
CALSCALE:GREGORIAN
BEGIN:VEVENT
UID:9c912c04c90dd9ac3462c7004d5bfc29
DTSTAMP:20260419T191312Z
SUMMARY:Schnuppergolf
DESCRIPTION:Der Schnupperkurs bietet den idealen Einstieg in den Golfsport 
 – ganz ohne Vorkenntnisse. Ausrüstung wird gestellt\, Trainer begleiten
  die ersten Schwünge und vermitteln Grundlagen mit Spaß und Leichtigkeit
 . Einfach sportive Kleidung anziehen und loslegen!
URL:https://www.meinplaner.com
DTSTART;TZID=Europe/Amsterdam:20260420T080000
DTEND;TZID=Europe/Amsterdam:20260420T190000
LOCATION:Am Golfplatz 1\, 09569 Oederan
BEGIN:VALARM
ACTION:DISPLAY
DESCRIPTION:Erinnerung: Schnuppergolf beginnt in 1 Stunde
TRIGGER;RELATED=END:-PT1H
END:VALARM
END:VEVENT
END:VCALENDAR
