BEGIN:VCALENDAR
PRODID:-//eluceo/ical//2.0/EN
VERSION:2.0
CALSCALE:GREGORIAN
BEGIN:VEVENT
UID:b19c9e6217a88f8b15d52553d2e034c8
DTSTAMP:20260420T085930Z
SUMMARY:on stage III – TANZ I THEATER I BALLETT AND MORE – Fotografie D
 ieter Wuschanski
DESCRIPTION:Die Ausstellung präsentiert eine facettenreiche Auswahl an Fot
 ografien von Dieter Wuschansk\, die von analoger bis digitaler Fotografie 
 reichen und eindrucksvolle Momentaufnahmen aus der Welt des Theaters zeige
 n.
URL:https://www.meinplaner.com
DTSTART;TZID=Europe/Amsterdam:20260421T110000
DTEND;TZID=Europe/Amsterdam:20260421T170000
LOCATION:Wasserschloßweg 6\, 09123 Chemnitz
BEGIN:VALARM
ACTION:DISPLAY
DESCRIPTION:Erinnerung: on stage III – TANZ I THEATER I BALLETT AND MORE 
 – Fotografie Dieter Wuschanski beginnt in 1 Stunde
TRIGGER;RELATED=END:-PT1H
END:VALARM
END:VEVENT
END:VCALENDAR
