BEGIN:VCALENDAR
PRODID:-//eluceo/ical//2.0/EN
VERSION:2.0
CALSCALE:GREGORIAN
BEGIN:VEVENT
UID:f59930bf5a18a5899323c5f6f542d263
DTSTAMP:20260425T165424Z
SUMMARY:Astrid Lindgren - Die Menschheit hat den Verstand verloren
DESCRIPTION:Der Film beleuchtet durch dokumentarische und szenische Bilder 
 das Leben der Weltautorin\, indem ihre Nachkommen in Gesprächen und Tageb
 ucheinträgen schmerzhafte persönliche Erlebnisse und den Ursprung ihres 
 Erfolgs erforschen.
URL:https://www.meinplaner.com
DTSTART;TZID=Europe/Amsterdam:20260426T171500
DTEND;TZID=Europe/Amsterdam:20260426T191500
LOCATION:Jägerstr. 24\, 09212 Limbach-Oberfrohna
BEGIN:VALARM
ACTION:DISPLAY
DESCRIPTION:Erinnerung: Astrid Lindgren - Die Menschheit hat den Verstand v
 erloren beginnt in 1 Stunde
TRIGGER;RELATED=END:-PT1H
END:VALARM
END:VEVENT
BEGIN:VEVENT
UID:35e221e557b862f8ad47d9acaa1a80cd
DTSTAMP:20260425T165424Z
SUMMARY:Astrid Lindgren - Die Menschheit hat den Verstand verloren
DESCRIPTION:Der Film beleuchtet durch dokumentarische und szenische Bilder 
 das Leben der Weltautorin\, indem ihre Nachkommen in Gesprächen und Tageb
 ucheinträgen schmerzhafte persönliche Erlebnisse und den Ursprung ihres 
 Erfolgs erforschen.
URL:https://www.meinplaner.com
DTSTART;TZID=Europe/Amsterdam:20260426T194500
DTEND;TZID=Europe/Amsterdam:20260426T214500
LOCATION:Jägerstr. 24\, 09212 Limbach-Oberfrohna
BEGIN:VALARM
ACTION:DISPLAY
DESCRIPTION:Erinnerung: Astrid Lindgren - Die Menschheit hat den Verstand v
 erloren beginnt in 1 Stunde
TRIGGER;RELATED=END:-PT1H
END:VALARM
END:VEVENT
END:VCALENDAR
